BEGIN:VCALENDAR
VERSION:2.0
PRODID:-//eventon.com NONSGML v1.0//EN
CALSCALE:GREGORIAN
METHOD:PUBLISH
BEGIN:VEVENT
UID:69e526764bc63
DTSTAMP:20260419T190110Z
DTSTART:20260311T010000Z
DTEND:20260311T090000Z
LOCATION:
SUMMARY:Akhir - Trial Class Program Menulis Cerpen dan Abstract Writing Series
DESCRIPTION:Dalam rangka pengembangan program di Pusat Bahasa serta mendoro
 ng kreativitas dan literasi di kalangan sivitas akademika (Mahasiswa\,  Dos
 en\,  Tenaga Penunjang Akademik (TPA)) dan masyarakat umum\,  Pusat Bahasa 
 menyelenggarakan Trial Class Program Menulis Cerpen dan Abstract Writing Se
 ries. Program Menulis Cerpen bertujuan untuk meningkatkan kemampuan bereksp
 resi melalui tulisan fiksi\,  khususnya cerita[..]\nhttps://lac.telkomunive
 rsity.ac.id/events/akhir-trial-class-program-menulis-cerpen-dan-abstract-wr
 iting-series/
URL:https://lac.telkomuniversity.ac.id/events/akhir-trial-class-program-menulis-cerpen-dan-abstract-writing-series/
END:VEVENT
END:VCALENDAR