BEGIN:VCALENDAR
VERSION:2.0
PRODID:-//eventon.com NONSGML v1.0//EN
CALSCALE:GREGORIAN
METHOD:PUBLISH
BEGIN:VEVENT
UID:69e7da1594f40
DTSTAMP:20260421T201205Z
DTSTART:20260228T073000Z
DTEND:20260228T073000Z
LOCATION:
SUMMARY:Akhir - Pendaftaran Trial Class Program Menulis Cerpen dan Abstract Writing Series
DESCRIPTION:Dalam rangka pengembangan program di Pusat Bahasa serta mendoro
 ng kreativitas dan literasi di kalangan sivitas akademika (Mahasiswa\,  Dos
 en\,  Tenaga Penunjang Akademik (TPA)) dan masyarakat umum\,  Pusat Bahasa 
 menyelenggarakan Trial Class Program Menulis Cerpen dan Abstract Writing Se
 ries. Program Menulis Cerpen bertujuan untuk meningkatkan kemampuan bereksp
 resi melalui tulisan fiksi\,  khususnya cerita[..]\nhttps://lac.telkomunive
 rsity.ac.id/events/akhir-pendaftaran-trial-class-program-menulis-cerpen-dan
 -abstract-writing-series/
URL:https://lac.telkomuniversity.ac.id/events/akhir-pendaftaran-trial-class-program-menulis-cerpen-dan-abstract-writing-series/
END:VEVENT
END:VCALENDAR