BEGIN:VCALENDAR
VERSION:2.0
PRODID:-//eventon.com NONSGML v1.0//EN
CALSCALE:GREGORIAN
METHOD:PUBLISH
BEGIN:VEVENT
UID:69e68f0df2483
DTSTAMP:20260420T203941Z
DTSTART:20260223T010000Z
DTEND:20260223T010000Z
LOCATION:
SUMMARY:Awal - Pendaftaran Trial Class Program Menulis Cerpen dan Abstract Writing Series
DESCRIPTION:Dalam rangka pengembangan program di Pusat Bahasa serta mendoro
 ng kreativitas dan literasi di kalangan sivitas akademika (Mahasiswa\,  Dos
 en\,  Tenaga Penunjang Akademik (TPA)) dan masyarakat umum\,  Pusat Bahasa 
 menyelenggarakan Trial Class Program Menulis Cerpen dan Abstract Writing Se
 ries. Program Menulis Cerpen bertujuan untuk meningkatkan kemampuan bereksp
 resi melalui tulisan fiksi\,  khususnya cerita[..]\nhttps://lac.telkomunive
 rsity.ac.id/events/awal-pendaftaran-trial-class-program-menulis-cerpen-dan-
 abstract-writing-series/
URL:https://lac.telkomuniversity.ac.id/events/awal-pendaftaran-trial-class-program-menulis-cerpen-dan-abstract-writing-series/
END:VEVENT
END:VCALENDAR