BEGIN:VCALENDAR
VERSION:2.0
PRODID:-//eventon.com NONSGML v1.0//EN
CALSCALE:GREGORIAN
METHOD:PUBLISH
BEGIN:VEVENT
UID:69e5edbda9b45
DTSTAMP:20260420T091125Z
DTSTART:20260224T010000Z
DTEND:20260224T090000Z
LOCATION:
SUMMARY:Awal - Tes ECCT MKWU Bahasa Inggris 2025/2026
DESCRIPTION:ECCT® atau English Communicative Competence Test adalah alat u
 ntuk mengukur kemampuan berbicara dalam bahasa Inggris. ECCT MKWU ini khusu
 s untuk mahasiswa yang akan mengambil mata kuliah Bahasa Inggris UCKXADB2 d
 i semester genap 2025/2026.🚨 JANGAN SAMPAI KETINGGALAN! 🚨📅 Pendaft
 aran: 23 Februari 2026 - 16 Maret 2026📖 Pelaksanaan Tes:● Tel-U Kampu
 s Utama Bandung[..]\nhttps://lac.telkomuniversity.ac.id/events/tes-ecct-mkw
 u-bahasa-inggris-2025-2026/
URL:https://lac.telkomuniversity.ac.id/events/tes-ecct-mkwu-bahasa-inggris-2025-2026/
END:VEVENT
END:VCALENDAR