BEGIN:VCALENDAR
VERSION:2.0
PRODID:-//eventon.com NONSGML v1.0//EN
CALSCALE:GREGORIAN
METHOD:PUBLISH
BEGIN:VEVENT
UID:69e5babe93b54
DTSTAMP:20260420T053350Z
DTSTART:20260316T010000Z
DTEND:20260316T073000Z
LOCATION:
SUMMARY:Akhir - Pendaftaran ECCT MKWU Bahasa Inggris 2025/2026
DESCRIPTION:ECCT® atau English Communicative Competence Test adalah alat u
 ntuk mengukur kemampuan berbicara dalam bahasa Inggris. ECCT MKWU ini khusu
 s untuk mahasiswa yang akan mengambil mata kuliah Bahasa Inggris UCKXADB2 d
 i semester genap 2025/2026.🚨 JANGAN SAMPAI KETINGGALAN! 🚨📅 Pendaft
 aran: 23 Februari 2026 - 16 Maret 2026📖 Pelaksanaan Tes:● Tel-U Kampu
 s Utama Bandung[..]\nhttps://lac.telkomuniversity.ac.id/events/akhir-pendaf
 taran-ecct-mkwu-bahasa-inggris-2025-2026/
URL:https://lac.telkomuniversity.ac.id/events/akhir-pendaftaran-ecct-mkwu-bahasa-inggris-2025-2026/
END:VEVENT
END:VCALENDAR