BEGIN:VCALENDAR
VERSION:2.0
PRODID:-//eventon.com NONSGML v1.0//EN
CALSCALE:GREGORIAN
METHOD:PUBLISH
BEGIN:VEVENT
UID:69e4d0795441f
DTSTAMP:20260419T125417Z
DTSTART:20251210T010000Z
DTEND:20251210T015900Z
LOCATION:
SUMMARY:Akhir - Pendaftaran & Unggah Karya (Online) LAFEST 2025
DESCRIPTION:⏰HARI TERAKHIR PENDAFTARAN & UNGGAH KARYA (ONLINE) LAFEST 20
 25 !! Ini langkah pertama buat kamu yang mau ikut LAFEST! Daftar secara onl
 ine dan unggah karya terbaik kamu sesuai kategori lomba yang dipilih. Pasti
 kan karya yang kamu kirim benar-benar menggambarkan skill dan kreativitasmu
 ! Nanti karya ini akan jadi bahan penilaian\,  jadi kasih[..]\nhttps://lac.
 telkomuniversity.ac.id/events/akhir-pendaftaran-unggah-karya-online-lafest-
 2025/
URL:https://lac.telkomuniversity.ac.id/events/akhir-pendaftaran-unggah-karya-online-lafest-2025/
END:VEVENT
END:VCALENDAR