BEGIN:VCALENDAR
VERSION:2.0
PRODID:-//eventon.com NONSGML v1.0//EN
CALSCALE:GREGORIAN
METHOD:PUBLISH
BEGIN:VEVENT
UID:69e69bb35103e
DTSTAMP:20260420T213339Z
DTSTART:20250217T010000Z
DTEND:20250307T165900Z
LOCATION:
SUMMARY:Pendaftaran dan Pelaksanaan ECCT MKU Bahasa Inggris Semester Genap 2024/2025
DESCRIPTION:Pembukaan Pendaftaran dan Pelaksanaan ECCT MKU Bahasa Inggris S
 emester Genap 2024/2025. Diperuntukan kepada mahasiswa Telkom University ya
 ng sedang mengambil mata kuliah Bahasa Inggris (UCKXADB2) pada semester gen
 ap 2024/2025.📅 Periode Pendaftaran:Hari\,  Tanggal: Senin\,  17 Februar
 i 2025 - Kamis\,  6 Maret 2025📅 Periode Pelaksanaan:Hari\,  Tanggal: Ra
 bu\,  19 Februari 2025 - Jumat\,  7 Maret 2025❇️[..]\nhttps://lac.telko
 muniversity.ac.id/events/pendaftaran-dan-pelaksanaan-ecct-mku-bahasa-inggri
 s-semester-genap-2024-2025/
URL:https://lac.telkomuniversity.ac.id/events/pendaftaran-dan-pelaksanaan-ecct-mku-bahasa-inggris-semester-genap-2024-2025/
END:VEVENT
END:VCALENDAR