BEGIN:VCALENDAR
VERSION:2.0
PRODID:-//eventon.com NONSGML v1.0//EN
CALSCALE:GREGORIAN
METHOD:PUBLISH
BEGIN:VEVENT
UID:69e6b07305c8b
DTSTAMP:20260420T230211Z
DTSTART:20250214T010000Z
DTEND:20250303T165900Z
LOCATION:
SUMMARY:Pendaftaran Kursus Bahasa Semester 1 Tahun 2025
DESCRIPTION:Pembukaan Pendaftaran Kelas Bahasa Korea Semester 1 (Maret - Ju
 ni) Tahun 2025 King Sejong Institute Bandung 2.📅 Pendaftaran:Hari\,  Tan
 ggal: Jumat\,  14 Februari 2025 - Senin 3 Maret 2025📅 Pelaksanaan:Hari\
 ,  Tanggal: Jumat\,  14 Februari 2025 - Senin 3 Maret 2025❇️ Jenis Kel
 as: Kelas Tatap Muka❇️ Tipe Kelas: • Sejong Korean 1A• Sejong Korea
 n[..]\nhttps://lac.telkomuniversity.ac.id/events/pendaftaran-kursus-bahasa-
 korea-king-sejong-institute-bandung-2/
URL:https://lac.telkomuniversity.ac.id/events/pendaftaran-kursus-bahasa-korea-king-sejong-institute-bandung-2/
END:VEVENT
END:VCALENDAR