BEGIN:VCALENDAR
VERSION:2.0
PRODID:-//eventon.com NONSGML v1.0//EN
CALSCALE:GREGORIAN
METHOD:PUBLISH
BEGIN:VEVENT
UID:69e776a9a0726
DTSTAMP:20260421T130753Z
DTSTART:20250311T010000Z
DTEND:20250311T090000Z
LOCATION:
SUMMARY:TOEFL ITP® Online Remote Proctoring
DESCRIPTION:Shift 1: 08.00-11.00 WIB | Shift 2: 13.00-16.00 WIBInfo Tes: Li
 nk Info\nhttps://lac.telkomuniversity.ac.id/events/toefl-itp-online-remote-
 proctoring-9/
URL:https://lac.telkomuniversity.ac.id/events/toefl-itp-online-remote-proctoring-9/
END:VEVENT
END:VCALENDAR